Package: GA4GHshiny Version: 1.26.0 Maintainer: Welliton Souza MaintainerEmail: well309 at gmail.com git_url: https://git.bioconductor.org/packages/GA4GHshiny git_branch: RELEASE_3_19 git_last_commit: 81afb26 git_last_commit_date: 2024-04-30 10:58:17 -0400 (Tue, 30 Apr 2024)