Package: GA4GHclient Version: 1.28.0 Command: E:\biocbuild\bbs-3.19-bioc\R\bin\R.exe CMD check --no-multiarch --install=check:GA4GHclient.install-out.txt --library=E:\biocbuild\bbs-3.19-bioc\R\library --no-vignettes --timings GA4GHclient_1.28.0.tar.gz StartedAt: 2024-10-17 01:36:44 -0400 (Thu, 17 Oct 2024) EndedAt: 2024-10-17 01:42:00 -0400 (Thu, 17 Oct 2024) EllapsedTime: 315.9 seconds RetCode: 0 Status: OK CheckDir: GA4GHclient.Rcheck Warnings: 0