Package: GA4GHclient Version: 1.28.0 Command: rm -rf GA4GHclient.buildbin-libdir && mkdir GA4GHclient.buildbin-libdir && F:\biocbuild\bbs-3.19-bioc\R\bin\R.exe CMD INSTALL --build --library=GA4GHclient.buildbin-libdir GA4GHclient_1.28.0.tar.gz StartedAt: 2024-06-27 08:14:27 -0400 (Thu, 27 Jun 2024) EndedAt: 2024-06-27 08:15:16 -0400 (Thu, 27 Jun 2024) EllapsedTime: 48.5 seconds RetCode: 0 Status: OK PackageFile: GA4GHclient_1.28.0.zip PackageFileSize: 762.3 KiB