Package: GA4GHclient Version: 1.28.0 Command: /home/biocbuild/bbs-3.19-bioc/R/bin/R CMD build --keep-empty-dirs --no-resave-data GA4GHclient StartedAt: 2024-10-16 18:34:36 -0400 (Wed, 16 Oct 2024) EndedAt: 2024-10-16 18:35:56 -0400 (Wed, 16 Oct 2024) EllapsedTime: 80.2 seconds RetCode: 0 Status: OK PackageFile: GA4GHclient_1.28.0.tar.gz PackageFileSize: 637.6 KiB