Package: GA4GHclient Version: 1.28.0 Command: /Library/Frameworks/R.framework/Resources/bin/R CMD build --keep-empty-dirs --no-resave-data GA4GHclient StartedAt: 2024-06-09 16:42:25 -0400 (Sun, 09 Jun 2024) EndedAt: 2024-06-09 16:43:50 -0400 (Sun, 09 Jun 2024) EllapsedTime: 85.5 seconds RetCode: 0 Status: OK PackageFile: GA4GHclient_1.28.0.tar.gz PackageFileSize: 637.5 KiB