Package: GA4GHclient Version: 1.28.0 Command: /home/biocbuild/R/R-beta-2024-04-15_r86425/bin/R CMD build --keep-empty-dirs --no-resave-data GA4GHclient StartedAt: 2024-05-09 00:23:56 -0000 (Thu, 09 May 2024) EndedAt: 2024-05-09 00:25:50 -0000 (Thu, 09 May 2024) EllapsedTime: 114.2 seconds RetCode: 0 Status: OK PackageFile: GA4GHclient_1.28.0.tar.gz PackageFileSize: 736.8 KiB