Package: GA4GHclient Version: 1.28.0 Command: /Library/Frameworks/R.framework/Resources/bin/R CMD check --install=check:GA4GHclient.install-out.txt --library=/Library/Frameworks/R.framework/Resources/library --no-vignettes --timings GA4GHclient_1.28.0.tar.gz StartedAt: 2024-06-10 16:11:42 -0400 (Mon, 10 Jun 2024) EndedAt: 2024-06-10 16:19:22 -0400 (Mon, 10 Jun 2024) EllapsedTime: 459.6 seconds RetCode: 0 Status: OK CheckDir: GA4GHclient.Rcheck Warnings: 0