Package: GA4GHclient Version: 1.28.0 Command: /Library/Frameworks/R.framework/Resources/bin/R CMD INSTALL GA4GHclient StartedAt: 2024-10-16 16:38:34 -0400 (Wed, 16 Oct 2024) EndedAt: 2024-10-16 16:39:21 -0400 (Wed, 16 Oct 2024) EllapsedTime: 47.4 seconds RetCode: 0 Status: OK