Package: GA4GHclient Version: 1.28.0 Maintainer: Welliton Souza MaintainerEmail: well309 at gmail.com git_url: https://git.bioconductor.org/packages/GA4GHclient git_branch: RELEASE_3_19 git_last_commit: 22c1fc9 git_last_commit_date: 2024-04-30 10:57:07 -0400 (Tue, 30 Apr 2024)