Package: FuseSOM Version: 1.6.0 Command: rm -rf FuseSOM.buildbin-libdir && mkdir FuseSOM.buildbin-libdir && E:\biocbuild\bbs-3.19-bioc\R\bin\R.exe CMD INSTALL --build --library=FuseSOM.buildbin-libdir FuseSOM_1.6.0.tar.gz StartedAt: 2024-10-17 07:49:13 -0400 (Thu, 17 Oct 2024) EndedAt: 2024-10-17 07:49:52 -0400 (Thu, 17 Oct 2024) EllapsedTime: 38.9 seconds RetCode: 0 Status: OK PackageFile: FuseSOM_1.6.0.zip PackageFileSize: 1.965 MiB