Package: FuseSOM Version: 1.6.0 Command: /home/biocbuild/bbs-3.19-bioc/R/bin/R CMD build --keep-empty-dirs --no-resave-data FuseSOM StartedAt: 2024-10-16 18:34:35 -0400 (Wed, 16 Oct 2024) EndedAt: 2024-10-16 18:35:34 -0400 (Wed, 16 Oct 2024) EllapsedTime: 59.2 seconds RetCode: 0 Status: OK PackageFile: FuseSOM_1.6.0.tar.gz PackageFileSize: 2.493 MiB