Package: FuseSOM Version: 1.6.0 Command: /Library/Frameworks/R.framework/Resources/bin/R CMD INSTALL FuseSOM StartedAt: 2024-10-16 16:46:19 -0400 (Wed, 16 Oct 2024) EndedAt: 2024-10-16 16:47:18 -0400 (Wed, 16 Oct 2024) EllapsedTime: 59.5 seconds RetCode: 0 Status: OK