Package: FuseSOM Version: 1.6.0 Command: /Library/Frameworks/R.framework/Resources/bin/R CMD build --keep-empty-dirs --no-resave-data FuseSOM StartedAt: 2024-10-16 19:21:50 -0400 (Wed, 16 Oct 2024) EndedAt: 2024-10-16 19:24:10 -0400 (Wed, 16 Oct 2024) EllapsedTime: 140.4 seconds RetCode: 0 Status: OK PackageFile: FuseSOM_1.6.0.tar.gz PackageFileSize: 2.643 MiB