Package: FuseSOM Version: 1.6.0 Command: /home/biocbuild/R/R-beta-2024-04-15_r86425/bin/R CMD build --keep-empty-dirs --no-resave-data FuseSOM StartedAt: 2024-05-09 00:23:55 -0000 (Thu, 09 May 2024) EndedAt: 2024-05-09 00:25:27 -0000 (Thu, 09 May 2024) EllapsedTime: 92.1 seconds RetCode: 0 Status: OK PackageFile: FuseSOM_1.6.0.tar.gz PackageFileSize: 2.065 MiB