Package: FuseSOM Version: 1.6.0 Command: /Library/Frameworks/R.framework/Resources/bin/R CMD build --keep-empty-dirs --no-resave-data FuseSOM StartedAt: 2024-10-17 00:44:39 -0400 (Thu, 17 Oct 2024) EndedAt: 2024-10-17 00:45:54 -0400 (Thu, 17 Oct 2024) EllapsedTime: 75.2 seconds RetCode: 0 Status: OK PackageFile: FuseSOM_1.6.0.tar.gz PackageFileSize: 2.642 MiB