Package: FuseSOM Version: 1.6.0 Maintainer: Elijah Willie MaintainerEmail: ewil3501 at uni.sydney.edu.au git_url: https://git.bioconductor.org/packages/FuseSOM git_branch: RELEASE_3_19 git_last_commit: f53bffb git_last_commit_date: 2024-04-30 11:45:49 -0400 (Tue, 30 Apr 2024)