Package: FunChIP Version: 1.30.0 Command: chmod a+r FunChIP -R && E:\biocbuild\bbs-3.19-bioc\R\bin\R.exe CMD build --keep-empty-dirs --no-resave-data FunChIP StartedAt: 2024-10-16 19:16:47 -0400 (Wed, 16 Oct 2024) EndedAt: 2024-10-16 19:20:42 -0400 (Wed, 16 Oct 2024) EllapsedTime: 235.2 seconds RetCode: 0 Status: OK PackageFile: FunChIP_1.30.0.tar.gz PackageFileSize: 23.01 MiB