Package: FunChIP Version: 1.30.0 Command: chmod a+r FunChIP -R && F:\biocbuild\bbs-3.19-bioc\R\bin\R.exe CMD build --keep-empty-dirs --no-resave-data FunChIP StartedAt: 2024-06-26 19:01:29 -0400 (Wed, 26 Jun 2024) EndedAt: 2024-06-26 19:05:19 -0400 (Wed, 26 Jun 2024) EllapsedTime: 230.7 seconds RetCode: 0 Status: OK PackageFile: FunChIP_1.30.0.tar.gz PackageFileSize: 23.01 MiB