Package: FunChIP Version: 1.30.0 Command: /Library/Frameworks/R.framework/Resources/bin/R CMD build --keep-empty-dirs --no-resave-data FunChIP StartedAt: 2024-10-16 19:21:47 -0400 (Wed, 16 Oct 2024) EndedAt: 2024-10-16 19:29:10 -0400 (Wed, 16 Oct 2024) EllapsedTime: 443.1 seconds RetCode: 0 Status: OK PackageFile: FunChIP_1.30.0.tar.gz PackageFileSize: 23.01 MiB