Package: FunChIP Version: 1.30.0 Command: /Library/Frameworks/R.framework/Resources/bin/R CMD INSTALL FunChIP StartedAt: 2024-06-09 15:44:10 -0400 (Sun, 09 Jun 2024) EndedAt: 2024-06-09 15:44:52 -0400 (Sun, 09 Jun 2024) EllapsedTime: 42.0 seconds RetCode: 0 Status: OK