Package: FunChIP Version: 1.30.0 Command: /Library/Frameworks/R.framework/Resources/bin/R CMD check --install=check:FunChIP.install-out.txt --library=/Library/Frameworks/R.framework/Resources/library --no-vignettes --timings FunChIP_1.30.0.tar.gz StartedAt: 2024-06-09 20:28:06 -0400 (Sun, 09 Jun 2024) EndedAt: 2024-06-09 20:32:02 -0400 (Sun, 09 Jun 2024) EllapsedTime: 236.6 seconds RetCode: 0 Status: OK CheckDir: FunChIP.Rcheck Warnings: 0