Package: FunChIP Version: 1.30.0 Command: rm -rf FunChIP.buildbin-libdir && mkdir FunChIP.buildbin-libdir && /Users/biocbuild/BBS/utils/build-universal.sh FunChIP_1.30.0.tar.gz /Library/Frameworks/R.framework/Resources/bin/R FunChIP.buildbin-libdir StartedAt: 2024-06-11 11:17:06 -0400 (Tue, 11 Jun 2024) EndedAt: 2024-06-11 11:18:15 -0400 (Tue, 11 Jun 2024) EllapsedTime: 69.3 seconds RetCode: 0 Status: OK PackageFile: FunChIP_1.30.0.tgz PackageFileSize: 23.63 MiB