Package: FunChIP Version: 1.30.0 Maintainer: Alice Parodi MaintainerEmail: alicecarla.parodi at polimi.it git_url: https://git.bioconductor.org/packages/FunChIP git_branch: RELEASE_3_19 git_last_commit: 64da7f6 git_last_commit_date: 2024-04-30 10:51:26 -0400 (Tue, 30 Apr 2024)