Package: FoldGO Version: 1.22.0 Command: E:\biocbuild\bbs-3.19-bioc\R\bin\R.exe CMD INSTALL FoldGO StartedAt: 2024-10-16 16:23:13 -0400 (Wed, 16 Oct 2024) EndedAt: 2024-10-16 16:23:50 -0400 (Wed, 16 Oct 2024) EllapsedTime: 36.5 seconds RetCode: 0 Status: OK