Package: FoldGO Version: 1.22.0 Command: chmod a+r FoldGO -R && E:\biocbuild\bbs-3.19-bioc\R\bin\R.exe CMD build --keep-empty-dirs --no-resave-data FoldGO StartedAt: 2024-10-16 19:16:11 -0400 (Wed, 16 Oct 2024) EndedAt: 2024-10-16 19:18:19 -0400 (Wed, 16 Oct 2024) EllapsedTime: 127.6 seconds RetCode: 0 Status: OK PackageFile: FoldGO_1.22.0.tar.gz PackageFileSize: 746.9 KiB