Package: FoldGO Version: 1.22.0 Command: rm -rf FoldGO.buildbin-libdir && mkdir FoldGO.buildbin-libdir && E:\biocbuild\bbs-3.19-bioc\R\bin\R.exe CMD INSTALL --build --library=FoldGO.buildbin-libdir FoldGO_1.22.0.tar.gz StartedAt: 2024-10-17 07:48:56 -0400 (Thu, 17 Oct 2024) EndedAt: 2024-10-17 07:49:35 -0400 (Thu, 17 Oct 2024) EllapsedTime: 39.2 seconds RetCode: 0 Status: OK PackageFile: FoldGO_1.22.0.zip PackageFileSize: 1.167 MiB