Package: FoldGO Version: 1.22.0 Command: F:\biocbuild\bbs-3.19-bioc\R\bin\R.exe CMD INSTALL FoldGO StartedAt: 2024-06-26 16:08:14 -0400 (Wed, 26 Jun 2024) EndedAt: 2024-06-26 16:08:51 -0400 (Wed, 26 Jun 2024) EllapsedTime: 37.1 seconds RetCode: 0 Status: OK