Package: FoldGO Version: 1.22.0 Command: chmod a+r FoldGO -R && F:\biocbuild\bbs-3.19-bioc\R\bin\R.exe CMD build --keep-empty-dirs --no-resave-data FoldGO StartedAt: 2024-06-26 19:00:28 -0400 (Wed, 26 Jun 2024) EndedAt: 2024-06-26 19:02:53 -0400 (Wed, 26 Jun 2024) EllapsedTime: 145.2 seconds RetCode: 0 Status: OK PackageFile: FoldGO_1.22.0.tar.gz PackageFileSize: 746.9 KiB