Package: FoldGO Version: 1.22.0 Command: rm -rf FoldGO.buildbin-libdir && mkdir FoldGO.buildbin-libdir && F:\biocbuild\bbs-3.19-bioc\R\bin\R.exe CMD INSTALL --build --library=FoldGO.buildbin-libdir FoldGO_1.22.0.tar.gz StartedAt: 2024-06-27 08:14:11 -0400 (Thu, 27 Jun 2024) EndedAt: 2024-06-27 08:15:02 -0400 (Thu, 27 Jun 2024) EllapsedTime: 50.7 seconds RetCode: 0 Status: OK PackageFile: FoldGO_1.22.0.zip PackageFileSize: 1.167 MiB