Package: FoldGO Version: 1.22.0 Command: /home/biocbuild/bbs-3.19-bioc/R/bin/R CMD build --keep-empty-dirs --no-resave-data FoldGO StartedAt: 2024-10-16 18:33:43 -0400 (Wed, 16 Oct 2024) EndedAt: 2024-10-16 18:35:07 -0400 (Wed, 16 Oct 2024) EllapsedTime: 84.2 seconds RetCode: 0 Status: OK PackageFile: FoldGO_1.22.0.tar.gz PackageFileSize: 773.4 KiB