Package: FoldGO Version: 1.22.0 Command: /home/biocbuild/R/R-beta-2024-04-15_r86425/bin/R CMD INSTALL FoldGO StartedAt: 2024-05-08 20:25:32 -0000 (Wed, 08 May 2024) EndedAt: 2024-05-08 20:26:03 -0000 (Wed, 08 May 2024) EllapsedTime: 30.8 seconds RetCode: 0 Status: OK