Package: FoldGO Version: 1.22.0 Command: rm -rf FoldGO.buildbin-libdir && mkdir FoldGO.buildbin-libdir && /Users/biocbuild/BBS/utils/build-universal.sh FoldGO_1.22.0.tar.gz /Library/Frameworks/R.framework/Resources/bin/R FoldGO.buildbin-libdir StartedAt: 2024-06-11 11:16:47 -0400 (Tue, 11 Jun 2024) EndedAt: 2024-06-11 11:17:28 -0400 (Tue, 11 Jun 2024) EllapsedTime: 40.9 seconds RetCode: 0 Status: OK PackageFile: FoldGO_1.22.0.tgz PackageFileSize: 1.29 MiB