Package: FoldGO Version: 1.22.0 Command: /Library/Frameworks/R.framework/Resources/bin/R CMD build --keep-empty-dirs --no-resave-data FoldGO StartedAt: 2024-10-17 00:42:37 -0400 (Thu, 17 Oct 2024) EndedAt: 2024-10-17 00:44:27 -0400 (Thu, 17 Oct 2024) EllapsedTime: 110.5 seconds RetCode: 0 Status: OK PackageFile: FoldGO_1.22.0.tar.gz PackageFileSize: 798.4 KiB