Package: FoldGO Version: 1.22.0 Maintainer: Daniil Wiebe MaintainerEmail: daniil.wiebe at gmail.com git_url: https://git.bioconductor.org/packages/FoldGO git_branch: RELEASE_3_19 git_last_commit: 5166867 git_last_commit_date: 2024-04-30 11:09:13 -0400 (Tue, 30 Apr 2024)