Package: FlowSOM Version: 2.12.0 Command: chmod a+r FlowSOM -R && E:\biocbuild\bbs-3.19-bioc\R\bin\R.exe CMD build --keep-empty-dirs --no-resave-data FlowSOM StartedAt: 2024-10-16 19:15:20 -0400 (Wed, 16 Oct 2024) EndedAt: 2024-10-16 19:17:23 -0400 (Wed, 16 Oct 2024) EllapsedTime: 122.8 seconds RetCode: 0 Status: OK PackageFile: FlowSOM_2.12.0.tar.gz PackageFileSize: 4.904 MiB