Package: FlowSOM Version: 2.12.0 Command: /home/biocbuild/bbs-3.19-bioc/R/bin/R CMD INSTALL FlowSOM StartedAt: 2024-10-16 16:44:41 -0400 (Wed, 16 Oct 2024) EndedAt: 2024-10-16 16:44:53 -0400 (Wed, 16 Oct 2024) EllapsedTime: 12.3 seconds RetCode: 0 Status: OK