Package: FlowSOM Version: 2.12.0 Command: /home/biocbuild/bbs-3.19-bioc/R/bin/R CMD build --keep-empty-dirs --no-resave-data FlowSOM StartedAt: 2024-10-16 18:32:56 -0400 (Wed, 16 Oct 2024) EndedAt: 2024-10-16 18:34:28 -0400 (Wed, 16 Oct 2024) EllapsedTime: 92.2 seconds RetCode: 0 Status: OK PackageFile: FlowSOM_2.12.0.tar.gz PackageFileSize: 4.904 MiB