Package: FlowSOM Version: 2.12.0 Command: /Library/Frameworks/R.framework/Resources/bin/R CMD INSTALL FlowSOM StartedAt: 2024-10-16 16:46:57 -0400 (Wed, 16 Oct 2024) EndedAt: 2024-10-16 16:47:28 -0400 (Wed, 16 Oct 2024) EllapsedTime: 31.8 seconds RetCode: 0 Status: OK