Package: FitHiC Version: 1.30.0 Command: rm -rf FitHiC.buildbin-libdir && mkdir FitHiC.buildbin-libdir && E:\biocbuild\bbs-3.19-bioc\R\bin\R.exe CMD INSTALL --build --library=FitHiC.buildbin-libdir FitHiC_1.30.0.tar.gz StartedAt: 2024-10-17 07:47:59 -0400 (Thu, 17 Oct 2024) EndedAt: 2024-10-17 07:48:28 -0400 (Thu, 17 Oct 2024) EllapsedTime: 29.7 seconds RetCode: 0 Status: OK PackageFile: FitHiC_1.30.0.zip PackageFileSize: 27.43 MiB