Package: FitHiC Version: 1.30.0 Command: /home/biocbuild/R/R-beta-2024-04-15_r86425/bin/R CMD build --keep-empty-dirs --no-resave-data FitHiC StartedAt: 2024-05-09 00:18:23 -0000 (Thu, 09 May 2024) EndedAt: 2024-05-09 00:21:24 -0000 (Thu, 09 May 2024) EllapsedTime: 181.2 seconds RetCode: 0 Status: OK PackageFile: FitHiC_1.30.0.tar.gz PackageFileSize: 27.66 MiB