Package: FitHiC Version: 1.30.0 Command: /Library/Frameworks/R.framework/Resources/bin/R CMD build --keep-empty-dirs --no-resave-data FitHiC StartedAt: 2024-06-09 21:35:45 -0400 (Sun, 09 Jun 2024) EndedAt: 2024-06-09 21:38:49 -0400 (Sun, 09 Jun 2024) EllapsedTime: 184.1 seconds RetCode: 0 Status: OK PackageFile: FitHiC_1.30.0.tar.gz PackageFileSize: 27.88 MiB