Package: FitHiC Version: 1.30.0 Maintainer: Ruyu Tan MaintainerEmail: rut003 at ucsd.edu git_url: https://git.bioconductor.org/packages/FitHiC git_branch: RELEASE_3_19 git_last_commit: 748dfd0 git_last_commit_date: 2024-04-30 10:53:49 -0400 (Tue, 30 Apr 2024)