Package: FeatSeekR Version: 1.4.0 Command: chmod a+r FeatSeekR -R && F:\biocbuild\bbs-3.19-bioc\R\bin\R.exe CMD build --keep-empty-dirs --no-resave-data FeatSeekR StartedAt: 2024-06-26 18:51:52 -0400 (Wed, 26 Jun 2024) EndedAt: 2024-06-26 18:55:11 -0400 (Wed, 26 Jun 2024) EllapsedTime: 198.3 seconds RetCode: 0 Status: OK PackageFile: FeatSeekR_1.4.0.tar.gz PackageFileSize: 377.2 KiB