Package: FeatSeekR Version: 1.4.0 Command: /Library/Frameworks/R.framework/Resources/bin/R CMD check --install=check:FeatSeekR.install-out.txt --library=/Library/Frameworks/R.framework/Resources/library --no-vignettes --timings FeatSeekR_1.4.0.tar.gz StartedAt: 2024-06-09 20:21:46 -0400 (Sun, 09 Jun 2024) EndedAt: 2024-06-09 20:24:34 -0400 (Sun, 09 Jun 2024) EllapsedTime: 168.4 seconds RetCode: 0 Status: OK CheckDir: FeatSeekR.Rcheck Warnings: 0