Package: FeatSeekR Version: 1.4.0 Command: /Library/Frameworks/R.framework/Resources/bin/R CMD build --keep-empty-dirs --no-resave-data FeatSeekR StartedAt: 2024-06-09 16:39:04 -0400 (Sun, 09 Jun 2024) EndedAt: 2024-06-09 16:40:36 -0400 (Sun, 09 Jun 2024) EllapsedTime: 91.8 seconds RetCode: 0 Status: OK PackageFile: FeatSeekR_1.4.0.tar.gz PackageFileSize: 620.2 KiB