Package: FeatSeekR Version: 1.4.0 Command: /Library/Frameworks/R.framework/Resources/bin/R CMD check --install=check:FeatSeekR.install-out.txt --library=/Library/Frameworks/R.framework/Resources/library --no-vignettes --timings FeatSeekR_1.4.0.tar.gz StartedAt: 2024-06-10 15:41:30 -0400 (Mon, 10 Jun 2024) EndedAt: 2024-06-10 15:45:58 -0400 (Mon, 10 Jun 2024) EllapsedTime: 268.7 seconds RetCode: 0 Status: OK CheckDir: FeatSeekR.Rcheck Warnings: 0