Package: FeatSeekR Version: 1.4.0 Command: rm -rf FeatSeekR.buildbin-libdir && mkdir FeatSeekR.buildbin-libdir && /Users/biocbuild/BBS/utils/build-universal.sh FeatSeekR_1.4.0.tar.gz /Library/Frameworks/R.framework/Resources/bin/R FeatSeekR.buildbin-libdir StartedAt: 2024-10-18 18:28:56 -0400 (Fri, 18 Oct 2024) EndedAt: 2024-10-18 18:29:27 -0400 (Fri, 18 Oct 2024) EllapsedTime: 30.9 seconds RetCode: 0 Status: OK PackageFile: FeatSeekR_1.4.0.tgz PackageFileSize: 649.5 KiB