Package: FastqCleaner Version: 1.22.0 Command: E:\biocbuild\bbs-3.19-bioc\R\bin\R.exe CMD INSTALL FastqCleaner StartedAt: 2024-10-16 16:49:45 -0400 (Wed, 16 Oct 2024) EndedAt: 2024-10-16 16:51:10 -0400 (Wed, 16 Oct 2024) EllapsedTime: 85.2 seconds RetCode: 0 Status: OK