Package: FastqCleaner Version: 1.22.0 Command: chmod a+r FastqCleaner -R && E:\biocbuild\bbs-3.19-bioc\R\bin\R.exe CMD build --keep-empty-dirs --no-resave-data FastqCleaner StartedAt: 2024-10-16 19:06:32 -0400 (Wed, 16 Oct 2024) EndedAt: 2024-10-16 19:08:07 -0400 (Wed, 16 Oct 2024) EllapsedTime: 94.4 seconds RetCode: 0 Status: OK PackageFile: FastqCleaner_1.22.0.tar.gz PackageFileSize: 4.183 MiB