Package: FastqCleaner Version: 1.22.0 Command: rm -rf FastqCleaner.buildbin-libdir && mkdir FastqCleaner.buildbin-libdir && E:\biocbuild\bbs-3.19-bioc\R\bin\R.exe CMD INSTALL --build --library=FastqCleaner.buildbin-libdir FastqCleaner_1.22.0.tar.gz StartedAt: 2024-10-17 07:47:20 -0400 (Thu, 17 Oct 2024) EndedAt: 2024-10-17 07:49:31 -0400 (Thu, 17 Oct 2024) EllapsedTime: 131.3 seconds RetCode: 0 Status: OK PackageFile: FastqCleaner_1.22.0.zip PackageFileSize: 4.003 MiB